BEGIN:VCALENDAR
VERSION:2.0
PRODID:-//ÖTK Sektion Neunkirchen - ECPv5.2.0//NONSGML v1.0//EN
CALSCALE:GREGORIAN
METHOD:PUBLISH
X-WR-CALNAME:ÖTK Sektion Neunkirchen
X-ORIGINAL-URL:https://www.oetk-neunkirchen.at
X-WR-CALDESC:Veranstaltungen für ÖTK Sektion Neunkirchen
BEGIN:VTIMEZONE
TZID:Europe/Berlin
BEGIN:DAYLIGHT
TZOFFSETFROM:+0100
TZOFFSETTO:+0200
TZNAME:CEST
DTSTART:20190331T010000
END:DAYLIGHT
BEGIN:STANDARD
TZOFFSETFROM:+0200
TZOFFSETTO:+0100
TZNAME:CET
DTSTART:20191027T010000
END:STANDARD
END:VTIMEZONE
BEGIN:VEVENT
DTSTART;TZID=Europe/Berlin:20190615T080000
DTEND;TZID=Europe/Berlin:20190616T000000
DTSTAMP:20260422T194104
CREATED:20190118T154719Z
LAST-MODIFIED:20200130T113015Z
UID:770-1560585600-1560643200@www.oetk-neunkirchen.at
SUMMARY:Alpingruppe: Rottenmanner Hütte
DESCRIPTION:Rottenmanner Hütte\nSA\, 15.06. bis SO\, 16.06.2019\nTreffpunkt am SA um 8:00 Uhr beim Parkplatz Penny-Markt\, B17 in Ternitz\, Anreise mit pivaten PKW \nProgramm:\nSamstag: Anreise und Besteigung „Steinernes Manndl“\nSonntag: Rundtour mit vier Gipfeln\, Gehzeit ca. 5-6 Stunden \nAnmeldeschluss: 15.05.2019 \nAnmeldung und Infos: Max Haider\, 0664 / 73 42 89 89 \nAlpingruppe: Rottenmanner Hütte
URL:https://www.oetk-neunkirchen.at/termin/alpingruppe-rottenmanner-huette/
LOCATION:Treffpunkt: Pennymarkt in Ternitz\, B17
CATEGORIES:Alpingruppe
END:VEVENT
END:VCALENDAR