BEGIN:VCALENDAR
VERSION:2.0
PRODID:-//ÖTK Sektion Neunkirchen - ECPv5.2.0//NONSGML v1.0//EN
CALSCALE:GREGORIAN
METHOD:PUBLISH
X-WR-CALNAME:ÖTK Sektion Neunkirchen
X-ORIGINAL-URL:https://www.oetk-neunkirchen.at
X-WR-CALDESC:Veranstaltungen für ÖTK Sektion Neunkirchen
BEGIN:VTIMEZONE
TZID:Europe/Berlin
BEGIN:DAYLIGHT
TZOFFSETFROM:+0100
TZOFFSETTO:+0200
TZNAME:CEST
DTSTART:20190331T010000
END:DAYLIGHT
BEGIN:STANDARD
TZOFFSETFROM:+0200
TZOFFSETTO:+0100
TZNAME:CET
DTSTART:20191027T010000
END:STANDARD
END:VTIMEZONE
BEGIN:VEVENT
DTSTART;TZID=Europe/Berlin:20190815T100000
DTEND;TZID=Europe/Berlin:20190815T100000
DTSTAMP:20260422T104540
CREATED:20190118T134227Z
LAST-MODIFIED:20210809T141519Z
UID:692-1565863200-1565863200@www.oetk-neunkirchen.at
SUMMARY:Alpkogelkirtag
DESCRIPTION:Musikprogramm\, Verlosung mit „Gaudimax“ Horst Membier\, Dosenschießstand für Kinder! \nFür´s leibliche Wohl ist auf´s Beste gesorgt! \nDie Veranstaltung findet bei jedem Wetter statt! \nAlpkogelkirtag
URL:https://www.oetk-neunkirchen.at/termin/alpkogelkirtag/
LOCATION:Alpkogelhütte – ca. 1 Stunde Fußweg ab Kummerbauer-Stadl
CATEGORIES:ÖTK Neunkirchen
END:VEVENT
END:VCALENDAR