BEGIN:VCALENDAR
VERSION:2.0
PRODID:-//ÖTK Sektion Neunkirchen - ECPv5.2.0//NONSGML v1.0//EN
CALSCALE:GREGORIAN
METHOD:PUBLISH
X-WR-CALNAME:ÖTK Sektion Neunkirchen
X-ORIGINAL-URL:https://www.oetk-neunkirchen.at
X-WR-CALDESC:Veranstaltungen für ÖTK Sektion Neunkirchen
BEGIN:VTIMEZONE
TZID:Europe/Berlin
BEGIN:DAYLIGHT
TZOFFSETFROM:+0100
TZOFFSETTO:+0200
TZNAME:CEST
DTSTART:20190331T010000
END:DAYLIGHT
BEGIN:STANDARD
TZOFFSETFROM:+0200
TZOFFSETTO:+0100
TZNAME:CET
DTSTART:20191027T010000
END:STANDARD
END:VTIMEZONE
BEGIN:VEVENT
DTSTART;TZID=Europe/Berlin:20190526T090000
DTEND;TZID=Europe/Berlin:20190526T170000
DTSTAMP:20260422T133318
CREATED:20190511T212838Z
LAST-MODIFIED:20190515T154038Z
UID:1579-1558861200-1558890000@www.oetk-neunkirchen.at
SUMMARY:Einladung Hüttenfest & Marterlweihe am Adolf Kögler Haus\, ÖTK Sektion Ternitz
DESCRIPTION:Am Sonntag den 26. Mai 2019 veranstaltet die ÖTK Sektion Ternitz ein Hüttenfest samt Marterlweihe am Adolf\nKögler Haus. Umrahmt wird diese Veranstaltung durch das Quartett der Standerlpartie Puchberg. Für Speisen\nund Getränke sorgen die Mitglieder der Sektion Ternitz! \nEs gibt einen Sonderzug der Schneebergbahn – nähere Infos findet ihr hier: \nAusschreibung: Ausschreibung-Hüttenfest-und-Marterlweihe-Adolf-Kögler-Haus\nFlyer: Flyer_Hüttenfest-und-Marterlweihe-Adolf-Kögler-Haus \nACHTUNG: Entgegen der Ausschreibung fährt der Sonderzug bereits um 9:00 Uhr vom Bahnhof Puchberg ab! \nEinladung Hüttenfest & Marterlweihe am Adolf Kögler Haus\, ÖTK Sektion Ternitz
URL:https://www.oetk-neunkirchen.at/termin/einladung-huettenfest-marterlweihe-am-adolf-koegler-haus-sektion-ternitz/
LOCATION:Adolf Kögler Haus\, Hengstweg 4\, Puchberg am Schneeberg\, 2734\, Österreich
CATEGORIES:Einladungen
END:VEVENT
END:VCALENDAR