BEGIN:VCALENDAR
VERSION:2.0
PRODID:-//ÖTK Sektion Neunkirchen - ECPv5.2.0//NONSGML v1.0//EN
CALSCALE:GREGORIAN
METHOD:PUBLISH
X-WR-CALNAME:ÖTK Sektion Neunkirchen
X-ORIGINAL-URL:https://www.oetk-neunkirchen.at
X-WR-CALDESC:Veranstaltungen für ÖTK Sektion Neunkirchen
BEGIN:VTIMEZONE
TZID:Europe/Berlin
BEGIN:DAYLIGHT
TZOFFSETFROM:+0100
TZOFFSETTO:+0200
TZNAME:CEST
DTSTART:20190331T010000
END:DAYLIGHT
BEGIN:STANDARD
TZOFFSETFROM:+0200
TZOFFSETTO:+0100
TZNAME:CET
DTSTART:20191027T010000
END:STANDARD
END:VTIMEZONE
BEGIN:VEVENT
DTSTART;TZID=Europe/Berlin:20190531T200000
DTEND;TZID=Europe/Berlin:20190531T233000
DTSTAMP:20260422T150146
CREATED:20190317T174956Z
LAST-MODIFIED:20190406T145308Z
UID:1316-1559332800-1559345400@www.oetk-neunkirchen.at
SUMMARY:Einladung zum Klubabend 05/2019
DESCRIPTION:Liebe ÖTK-Mitglieder! \nAm 31.05.2019 findet wieder unser monatlicher Klubabend im Klubheim statt! \nNachdem wir in letzter Zeit einige Veranstaltungen hatten\, gibt es sicher viele Erlebnisse und „G´schichterl“ zu besprechen. Dazu ist unser Klubabend der perfekte Rahmen! \nWir hoffen\, auch DU bist dabei! Wir freuen uns auf DICH! \nEinladung zum Klubabend 05/2019
URL:https://www.oetk-neunkirchen.at/termin/einladung-zum-klubabend-05-2019/
LOCATION:Klublokal\, Schwangasse 3\, Neunkirchen\, 2620\, Österreich
CATEGORIES:Einladungen,Klubabend,ÖTK Neunkirchen
END:VEVENT
END:VCALENDAR