BEGIN:VCALENDAR
VERSION:2.0
PRODID:-//ÖTK Sektion Neunkirchen - ECPv5.2.0//NONSGML v1.0//EN
CALSCALE:GREGORIAN
METHOD:PUBLISH
X-WR-CALNAME:ÖTK Sektion Neunkirchen
X-ORIGINAL-URL:https://www.oetk-neunkirchen.at
X-WR-CALDESC:Veranstaltungen für ÖTK Sektion Neunkirchen
BEGIN:VTIMEZONE
TZID:Europe/Berlin
BEGIN:DAYLIGHT
TZOFFSETFROM:+0100
TZOFFSETTO:+0200
TZNAME:CEST
DTSTART:20190331T010000
END:DAYLIGHT
BEGIN:STANDARD
TZOFFSETFROM:+0200
TZOFFSETTO:+0100
TZNAME:CET
DTSTART:20191027T010000
END:STANDARD
END:VTIMEZONE
BEGIN:VEVENT
DTSTART;TZID=Europe/Berlin:20190608T090000
DTEND;TZID=Europe/Berlin:20190608T090000
DTSTAMP:20260422T164555
CREATED:20190118T154303Z
LAST-MODIFIED:20190601T190158Z
UID:766-1559984400-1559984400@www.oetk-neunkirchen.at
SUMMARY:Jugend: Wanderung „Schwaigen-Reigen“\, Hochwechsel
DESCRIPTION:Jugend – Wanderung „Schwaigen-Reigen“\, Hochwechsel\nSA\, 08.06.2019\, 09:00 Uhr\, Treffpunkt beim Parkplatz Freibad Neunkirchen \n50 Musikgruppen mit mehr als 200 Musikern spielen bei den Hütten oder ziehen über die Almen! \nWebsite Schwaigen-Reigen: Website\nWanderkarte Schwaigen-Reigen: Wanderkarte \nAnmeldung und Infos: Markus Artner\, 0650 9300 770 bzw. Thomas Seidl\, 0650 6605 570 \nJugend: Wanderung „Schwaigen-Reigen“\, Hochwechsel
URL:https://www.oetk-neunkirchen.at/termin/jugend-wanderung-schwaigen-reigen-hochwechsel/
LOCATION:Treffpunkt: Parkplatz Freibad Neunkirchen\, Am Erholungszentrum 8\, Neunkirchen\, 2620\, Österreich
CATEGORIES:Jugend
END:VEVENT
END:VCALENDAR