BEGIN:VCALENDAR
VERSION:2.0
PRODID:-//ÖTK Sektion Neunkirchen - ECPv5.2.0//NONSGML v1.0//EN
CALSCALE:GREGORIAN
METHOD:PUBLISH
X-WR-CALNAME:ÖTK Sektion Neunkirchen
X-ORIGINAL-URL:https://www.oetk-neunkirchen.at
X-WR-CALDESC:Veranstaltungen für ÖTK Sektion Neunkirchen
BEGIN:VTIMEZONE
TZID:Europe/Berlin
BEGIN:DAYLIGHT
TZOFFSETFROM:+0100
TZOFFSETTO:+0200
TZNAME:CEST
DTSTART:20190331T010000
END:DAYLIGHT
BEGIN:STANDARD
TZOFFSETFROM:+0200
TZOFFSETTO:+0100
TZNAME:CET
DTSTART:20191027T010000
END:STANDARD
BEGIN:DAYLIGHT
TZOFFSETFROM:+0100
TZOFFSETTO:+0200
TZNAME:CEST
DTSTART:20200329T010000
END:DAYLIGHT
BEGIN:STANDARD
TZOFFSETFROM:+0200
TZOFFSETTO:+0100
TZNAME:CET
DTSTART:20201025T010000
END:STANDARD
END:VTIMEZONE
BEGIN:VEVENT
DTSTART;VALUE=DATE:20191001
DTEND;VALUE=DATE:20200503
DTSTAMP:20260422T120343
CREATED:20190412T151704Z
LAST-MODIFIED:20200112T092850Z
UID:1357-1569888000-1588463999@www.oetk-neunkirchen.at
SUMMARY:Schloss Artstetten - Sonderschau 150 Jahre ÖTK (1869 - 2019)
DESCRIPTION:Mit Herz und Hand fürs Alpenland \nNach einer Bergtour gemeinsam mit seinem Bergkameraden Lambert Märzroth zu Ostern 1869 beschloss Gustav Jäger einen alpinen Verein zu gründen\, um die Schönheit der Bergwelt auch der breiten Bevölkerung zugänglich zu machen. Das Gründungsdatum des ÖTK war der 18. Mai 1869. \nSchirmherr des ÖTK war unter anderem Erzherzog Carl Ludwig (1877-1896)\, der Besitzer des Schloss Artstetten. \nDie Geschichte des ÖTK ist geprägt von herausragenden alpinen Leistungen\, Pioniergeist und der Wertschätzung der Schönheiten der alpinen Natur. \nDie Sonderschau auf Schloss Artstetten (1. April bis 1. November 2019) zeigt die Entwicklung des ÖTK von 1869 bis heute. \nWeitere Informationen zur Sonderschau auf Schloss Artstetten findest du hier!\nEinen Überblick über die Geschichte des ÖTK findest du hier! \nSchloss Artstetten – Sonderschau 150 Jahre ÖTK (1869 – 2019)
URL:https://www.oetk-neunkirchen.at/termin/schloss-artstetten-sonderschau-150-jahre-oetk-1869-2019/
LOCATION:Schloss Artstetten\, Schlossplatz 1\, Artstetten\, 3661\, Österreich
CATEGORIES:Einladungen
END:VEVENT
END:VCALENDAR