BEGIN:VCALENDAR
VERSION:2.0
PRODID:-//ÖTK Sektion Neunkirchen - ECPv5.2.0//NONSGML v1.0//EN
CALSCALE:GREGORIAN
METHOD:PUBLISH
X-WR-CALNAME:ÖTK Sektion Neunkirchen
X-ORIGINAL-URL:https://www.oetk-neunkirchen.at
X-WR-CALDESC:Veranstaltungen für ÖTK Sektion Neunkirchen
BEGIN:VTIMEZONE
TZID:Europe/Berlin
BEGIN:DAYLIGHT
TZOFFSETFROM:+0100
TZOFFSETTO:+0200
TZNAME:CEST
DTSTART:20200329T010000
END:DAYLIGHT
BEGIN:STANDARD
TZOFFSETFROM:+0200
TZOFFSETTO:+0100
TZNAME:CET
DTSTART:20201025T010000
END:STANDARD
END:VTIMEZONE
BEGIN:VEVENT
DTSTART;TZID=Europe/Berlin:20200513T090000
DTEND;TZID=Europe/Berlin:20200513T170000
DTSTAMP:20260422T134930
CREATED:20191019T153645Z
LAST-MODIFIED:20200331T135646Z
UID:2037-1589360400-1589389200@www.oetk-neunkirchen.at
SUMMARY:ABSAGE/VERSCHIEBUNG wegen CORONA-Virus!! - Senioren - Wildwasserpfad Marienseer Schwaig
DESCRIPTION:ABSAGE/VERSCHIEBUNG wegen CORONA-Virus!! \nWildwasserpfad Marienseer Schwaig \nMI.\, 13.05.2020\, Treffpunkt: 09:00 Uhr beim Bahnhof Neunkirchen \nAnmeldung und Infos: Dieter Ernst\, 0676 4532 980 \nABSAGE/VERSCHIEBUNG wegen CORONA-Virus!! – Senioren – Wildwasserpfad Marienseer Schwaig
URL:https://www.oetk-neunkirchen.at/termin/senioren-wildwasserpfad-marienseer-schwaig/
LOCATION:Treffpunkt: Bahnhof Neunkirchen
CATEGORIES:Senioren
END:VEVENT
END:VCALENDAR